BEGIN:VCALENDAR
VERSION:2.0
PRODID:-//YGAMETIME.com//YGT iCal Creator//EN
METHOD:PUBLISH
X-PUBLISHED-TTL:PT6H
REFRESH-INTERVAL;VALUE=DURATION:PT6H
CALSCALE:GREGORIAN
X-WR-CALNAME:YGAMETIME CALENDAR
BEGIN:VEVENT
UID:ymcacnm-599618@ygametime.com
DTSTAMP:20260328T140000Z
DTSTART;TZID=America/Denver:20260328T080000
DURATION:PT0H60M0S
SUMMARY:Notorious DIG vs Ace Squad
DESCRIPTION:11-13u | Volleyball\nYMCA of Central New Mexico\n
URL;VALUE=URI:https://ygametime.com/branch/ymcacnm/sports/2026-spring-volleyball/25883/?utm_medium=calendar&utm_source=team_cal&utm_content=league_url#game-599618
LOCATION:The Fieldhouse Volleyball Court 2
BEGIN:VALARM
TRIGGER:-P2H
ACTION:DISPLAY
DESCRIPTION:Notorious DIG vs Ace Squad
END:VALARM
END:VEVENT
BEGIN:VEVENT
UID:ymcacnm-599625@ygametime.com
DTSTAMP:20260404T160000Z
DTSTART;TZID=America/Denver:20260404T100000
DURATION:PT0H60M0S
SUMMARY:Ace Squad vs Elite
DESCRIPTION:11-13u | Volleyball\nYMCA of Central New Mexico\n
URL;VALUE=URI:https://ygametime.com/branch/ymcacnm/sports/2026-spring-volleyball/25883/?utm_medium=calendar&utm_source=team_cal&utm_content=league_url#game-599625
LOCATION:The Fieldhouse Volleyball Court 2
BEGIN:VALARM
TRIGGER:-P2H
ACTION:DISPLAY
DESCRIPTION:Ace Squad vs Elite
END:VALARM
END:VEVENT
BEGIN:VEVENT
UID:ymcacnm-599634@ygametime.com
DTSTAMP:20260418T170000Z
DTSTART;TZID=America/Denver:20260418T110000
DURATION:PT0H60M0S
SUMMARY:Hits Don't Lie vs Ace Squad
DESCRIPTION:11-13u | Volleyball\nYMCA of Central New Mexico\n
URL;VALUE=URI:https://ygametime.com/branch/ymcacnm/sports/2026-spring-volleyball/25883/?utm_medium=calendar&utm_source=team_cal&utm_content=league_url#game-599634
LOCATION:The Fieldhouse Volleyball Court 2
BEGIN:VALARM
TRIGGER:-P2H
ACTION:DISPLAY
DESCRIPTION:Hits Don't Lie vs Ace Squad
END:VALARM
END:VEVENT
BEGIN:VEVENT
UID:ymcacnm-599641@ygametime.com
DTSTAMP:20260425T150000Z
DTSTART;TZID=America/Denver:20260425T090000
DURATION:PT0H60M0S
SUMMARY:Ace Squad vs Aces
DESCRIPTION:11-13u | Volleyball\nYMCA of Central New Mexico\n
URL;VALUE=URI:https://ygametime.com/branch/ymcacnm/sports/2026-spring-volleyball/25883/?utm_medium=calendar&utm_source=team_cal&utm_content=league_url#game-599641
LOCATION:The Fieldhouse Volleyball Court 2
BEGIN:VALARM
TRIGGER:-P2H
ACTION:DISPLAY
DESCRIPTION:Ace Squad vs Aces
END:VALARM
END:VEVENT
BEGIN:VEVENT
UID:ymcacnm-599650@ygametime.com
DTSTAMP:20260509T160000Z
DTSTART;TZID=America/Denver:20260509T100000
DURATION:PT0H60M0S
SUMMARY:Ace Squad vs G Dogs
DESCRIPTION:11-13u | Volleyball\nYMCA of Central New Mexico\n
URL;VALUE=URI:https://ygametime.com/branch/ymcacnm/sports/2026-spring-volleyball/25883/?utm_medium=calendar&utm_source=team_cal&utm_content=league_url#game-599650
LOCATION:The Fieldhouse Volleyball Court 2
BEGIN:VALARM
TRIGGER:-P2H
ACTION:DISPLAY
DESCRIPTION:Ace Squad vs G Dogs
END:VALARM
END:VEVENT
BEGIN:VEVENT
UID:ymcacnm-599628@ygametime.com
DTSTAMP:20260516T170000Z
DTSTART;TZID=America/Denver:20260516T110000
DURATION:PT0H60M0S
SUMMARY:Strikers vs Ace Squad
DESCRIPTION:11-13u | Volleyball\nYMCA of Central New Mexico\n
URL;VALUE=URI:https://ygametime.com/branch/ymcacnm/sports/2026-spring-volleyball/25883/?utm_medium=calendar&utm_source=team_cal&utm_content=league_url#game-599628
LOCATION:The Fieldhouse Volleyball Court 2
BEGIN:VALARM
TRIGGER:-P2H
ACTION:DISPLAY
DESCRIPTION:Strikers vs Ace Squad
END:VALARM
END:VEVENT
BEGIN:VEVENT
UID:ymcacnm-599644@ygametime.com
DTSTAMP:20260523T150000Z
DTSTART;TZID=America/Denver:20260523T090000
DURATION:PT0H60M0S
SUMMARY:Eagles vs Ace Squad
DESCRIPTION:11-13u | Volleyball\nYMCA of Central New Mexico\n
URL;VALUE=URI:https://ygametime.com/branch/ymcacnm/sports/2026-spring-volleyball/25883/?utm_medium=calendar&utm_source=team_cal&utm_content=league_url#game-599644
LOCATION:The Fieldhouse Volleyball Court 2
BEGIN:VALARM
TRIGGER:-P2H
ACTION:DISPLAY
DESCRIPTION:Eagles vs Ace Squad
END:VALARM
END:VEVENT
BEGIN:VEVENT
UID:ymcacnm-599647@ygametime.com
DTSTAMP:20260523T160000Z
DTSTART;TZID=America/Denver:20260523T100000
DURATION:PT0H60M0S
SUMMARY:Notorious DIG vs Ace Squad
DESCRIPTION:11-13u | Volleyball\nYMCA of Central New Mexico\n
URL;VALUE=URI:https://ygametime.com/branch/ymcacnm/sports/2026-spring-volleyball/25883/?utm_medium=calendar&utm_source=team_cal&utm_content=league_url#game-599647
LOCATION:The Fieldhouse Basketball Court 2
BEGIN:VALARM
TRIGGER:-P2H
ACTION:DISPLAY
DESCRIPTION:Notorious DIG vs Ace Squad
END:VALARM
END:VEVENT
END:VCALENDAR

