BEGIN:VCALENDAR
VERSION:2.0
PRODID:-//YGAMETIME.com//YGT iCal Creator//EN
METHOD:PUBLISH
X-PUBLISHED-TTL:PT6H
REFRESH-INTERVAL;VALUE=DURATION:PT6H
CALSCALE:GREGORIAN
X-WR-CALNAME:YGAMETIME CALENDAR
BEGIN:VEVENT
UID:ymcacnm-599621@ygametime.com
DTSTAMP:20260328T170000Z
DTSTART;TZID=America/Denver:20260328T110000
DURATION:PT0H60M0S
SUMMARY:G Dogs vs Hits Don't Lie
DESCRIPTION:11-13u | Volleyball\nYMCA of Central New Mexico\n
URL;VALUE=URI:https://ygametime.com/branch/ymcacnm/sports/2026-spring-volleyball/25883/?utm_medium=calendar&utm_source=team_cal&utm_content=league_url#game-599621
LOCATION:The Fieldhouse Volleyball Court 2
BEGIN:VALARM
TRIGGER:-P2H
ACTION:DISPLAY
DESCRIPTION:G Dogs vs Hits Don't Lie
END:VALARM
END:VEVENT
BEGIN:VEVENT
UID:ymcacnm-599624@ygametime.com
DTSTAMP:20260404T140000Z
DTSTART;TZID=America/Denver:20260404T080000
DURATION:PT0H60M0S
SUMMARY:Hits Don't Lie vs Aces
DESCRIPTION:11-13u | Volleyball\nYMCA of Central New Mexico\n
URL;VALUE=URI:https://ygametime.com/branch/ymcacnm/sports/2026-spring-volleyball/25883/?utm_medium=calendar&utm_source=team_cal&utm_content=league_url#game-599624
LOCATION:The Fieldhouse Volleyball Court 2
BEGIN:VALARM
TRIGGER:-P2H
ACTION:DISPLAY
DESCRIPTION:Hits Don't Lie vs Aces
END:VALARM
END:VEVENT
BEGIN:VEVENT
UID:ymcacnm-599626@ygametime.com
DTSTAMP:20260404T150000Z
DTSTART;TZID=America/Denver:20260404T090000
DURATION:PT0H60M0S
SUMMARY:Notorious DIG vs Hits Don't Lie
DESCRIPTION:11-13u | Volleyball\nYMCA of Central New Mexico\n
URL;VALUE=URI:https://ygametime.com/branch/ymcacnm/sports/2026-spring-volleyball/25883/?utm_medium=calendar&utm_source=team_cal&utm_content=league_url#game-599626
LOCATION:The Fieldhouse Volleyball Court 2
BEGIN:VALARM
TRIGGER:-P2H
ACTION:DISPLAY
DESCRIPTION:Notorious DIG vs Hits Don't Lie
END:VALARM
END:VEVENT
BEGIN:VEVENT
UID:ymcacnm-599634@ygametime.com
DTSTAMP:20260418T170000Z
DTSTART;TZID=America/Denver:20260418T110000
DURATION:PT0H60M0S
SUMMARY:Hits Don't Lie vs Ace Squad
DESCRIPTION:11-13u | Volleyball\nYMCA of Central New Mexico\n
URL;VALUE=URI:https://ygametime.com/branch/ymcacnm/sports/2026-spring-volleyball/25883/?utm_medium=calendar&utm_source=team_cal&utm_content=league_url#game-599634
LOCATION:The Fieldhouse Volleyball Court 2
BEGIN:VALARM
TRIGGER:-P2H
ACTION:DISPLAY
DESCRIPTION:Hits Don't Lie vs Ace Squad
END:VALARM
END:VEVENT
BEGIN:VEVENT
UID:ymcacnm-599638@ygametime.com
DTSTAMP:20260425T140000Z
DTSTART;TZID=America/Denver:20260425T080000
DURATION:PT0H60M0S
SUMMARY:Eagles vs Hits Don't Lie
DESCRIPTION:11-13u | Volleyball\nYMCA of Central New Mexico\n
URL;VALUE=URI:https://ygametime.com/branch/ymcacnm/sports/2026-spring-volleyball/25883/?utm_medium=calendar&utm_source=team_cal&utm_content=league_url#game-599638
LOCATION:The Fieldhouse Volleyball Court 2
BEGIN:VALARM
TRIGGER:-P2H
ACTION:DISPLAY
DESCRIPTION:Eagles vs Hits Don't Lie
END:VALARM
END:VEVENT
BEGIN:VEVENT
UID:ymcacnm-599642@ygametime.com
DTSTAMP:20260425T180000Z
DTSTART;TZID=America/Denver:20260425T120000
DURATION:PT0H60M0S
SUMMARY:Hits Don't Lie vs Elite
DESCRIPTION:11-13u | Volleyball\nYMCA of Central New Mexico\n
URL;VALUE=URI:https://ygametime.com/branch/ymcacnm/sports/2026-spring-volleyball/25883/?utm_medium=calendar&utm_source=team_cal&utm_content=league_url#game-599642
LOCATION:The Fieldhouse Volleyball Court 2
BEGIN:VALARM
TRIGGER:-P2H
ACTION:DISPLAY
DESCRIPTION:Hits Don't Lie vs Elite
END:VALARM
END:VEVENT
BEGIN:VEVENT
UID:ymcacnm-599651@ygametime.com
DTSTAMP:20260509T140000Z
DTSTART;TZID=America/Denver:20260509T080000
DURATION:PT0H60M0S
SUMMARY:Hits Don't Lie vs Strikers
DESCRIPTION:11-13u | Volleyball\nYMCA of Central New Mexico\n
URL;VALUE=URI:https://ygametime.com/branch/ymcacnm/sports/2026-spring-volleyball/25883/?utm_medium=calendar&utm_source=team_cal&utm_content=league_url#game-599651
LOCATION:The Fieldhouse Volleyball Court 2
BEGIN:VALARM
TRIGGER:-P2H
ACTION:DISPLAY
DESCRIPTION:Hits Don't Lie vs Strikers
END:VALARM
END:VEVENT
BEGIN:VEVENT
UID:ymcacnm-599652@ygametime.com
DTSTAMP:20260516T140000Z
DTSTART;TZID=America/Denver:20260516T080000
DURATION:PT0H60M0S
SUMMARY:Hits Don't Lie vs G Dogs
DESCRIPTION:11-13u | Volleyball\nYMCA of Central New Mexico\n
URL;VALUE=URI:https://ygametime.com/branch/ymcacnm/sports/2026-spring-volleyball/25883/?utm_medium=calendar&utm_source=team_cal&utm_content=league_url#game-599652
LOCATION:The Fieldhouse Volleyball Court 2
BEGIN:VALARM
TRIGGER:-P2H
ACTION:DISPLAY
DESCRIPTION:Hits Don't Lie vs G Dogs
END:VALARM
END:VEVENT
END:VCALENDAR

