BEGIN:VCALENDAR
VERSION:2.0
PRODID:-//YGAMETIME.com//YGT iCal Creator//EN
METHOD:PUBLISH
X-PUBLISHED-TTL:PT6H
REFRESH-INTERVAL;VALUE=DURATION:PT6H
CALSCALE:GREGORIAN
X-WR-CALNAME:YGAMETIME CALENDAR
BEGIN:VEVENT
UID:ymcacnm-599618@ygametime.com
DTSTAMP:20260328T140000Z
DTSTART;TZID=America/Denver:20260328T080000
DURATION:PT0H60M0S
SUMMARY:Notorious DIG vs Ace Squad
DESCRIPTION:11-13u | Volleyball\nYMCA of Central New Mexico\n
URL;VALUE=URI:https://ygametime.com/branch/ymcacnm/sports/2026-spring-volleyball/25883/?utm_medium=calendar&utm_source=team_cal&utm_content=league_url#game-599618
LOCATION:The Fieldhouse Volleyball Court 2
BEGIN:VALARM
TRIGGER:-P2H
ACTION:DISPLAY
DESCRIPTION:Notorious DIG vs Ace Squad
END:VALARM
END:VEVENT
BEGIN:VEVENT
UID:ymcacnm-599622@ygametime.com
DTSTAMP:20260328T180000Z
DTSTART;TZID=America/Denver:20260328T120000
DURATION:PT0H60M0S
SUMMARY:Strikers vs Notorious DIG
DESCRIPTION:11-13u | Volleyball\nYMCA of Central New Mexico\n
URL;VALUE=URI:https://ygametime.com/branch/ymcacnm/sports/2026-spring-volleyball/25883/?utm_medium=calendar&utm_source=team_cal&utm_content=league_url#game-599622
LOCATION:The Fieldhouse Volleyball Court 2
BEGIN:VALARM
TRIGGER:-P2H
ACTION:DISPLAY
DESCRIPTION:Strikers vs Notorious DIG
END:VALARM
END:VEVENT
BEGIN:VEVENT
UID:ymcacnm-599626@ygametime.com
DTSTAMP:20260404T150000Z
DTSTART;TZID=America/Denver:20260404T090000
DURATION:PT0H60M0S
SUMMARY:Notorious DIG vs Hits Don't Lie
DESCRIPTION:11-13u | Volleyball\nYMCA of Central New Mexico\n
URL;VALUE=URI:https://ygametime.com/branch/ymcacnm/sports/2026-spring-volleyball/25883/?utm_medium=calendar&utm_source=team_cal&utm_content=league_url#game-599626
LOCATION:The Fieldhouse Volleyball Court 2
BEGIN:VALARM
TRIGGER:-P2H
ACTION:DISPLAY
DESCRIPTION:Notorious DIG vs Hits Don't Lie
END:VALARM
END:VEVENT
BEGIN:VEVENT
UID:ymcacnm-599637@ygametime.com
DTSTAMP:20260418T150000Z
DTSTART;TZID=America/Denver:20260418T090000
DURATION:PT0H60M0S
SUMMARY:Notorious DIG vs Elite
DESCRIPTION:11-13u | Volleyball\nYMCA of Central New Mexico\n
URL;VALUE=URI:https://ygametime.com/branch/ymcacnm/sports/2026-spring-volleyball/25883/?utm_medium=calendar&utm_source=team_cal&utm_content=league_url#game-599637
LOCATION:The Fieldhouse Volleyball Court 2
BEGIN:VALARM
TRIGGER:-P2H
ACTION:DISPLAY
DESCRIPTION:Notorious DIG vs Elite
END:VALARM
END:VEVENT
BEGIN:VEVENT
UID:ymcacnm-599639@ygametime.com
DTSTAMP:20260425T170000Z
DTSTART;TZID=America/Denver:20260425T110000
DURATION:PT0H60M0S
SUMMARY:G Dogs vs Notorious DIG
DESCRIPTION:11-13u | Volleyball\nYMCA of Central New Mexico\n
URL;VALUE=URI:https://ygametime.com/branch/ymcacnm/sports/2026-spring-volleyball/25883/?utm_medium=calendar&utm_source=team_cal&utm_content=league_url#game-599639
LOCATION:The Fieldhouse Volleyball Court 2
BEGIN:VALARM
TRIGGER:-P2H
ACTION:DISPLAY
DESCRIPTION:G Dogs vs Notorious DIG
END:VALARM
END:VEVENT
BEGIN:VEVENT
UID:ymcacnm-599630@ygametime.com
DTSTAMP:20260516T160000Z
DTSTART;TZID=America/Denver:20260516T100000
DURATION:PT0H60M0S
SUMMARY:Eagles vs Notorious DIG
DESCRIPTION:11-13u | Volleyball\nYMCA of Central New Mexico\n
URL;VALUE=URI:https://ygametime.com/branch/ymcacnm/sports/2026-spring-volleyball/25883/?utm_medium=calendar&utm_source=team_cal&utm_content=league_url#game-599630
LOCATION:The Fieldhouse Volleyball Court 2
BEGIN:VALARM
TRIGGER:-P2H
ACTION:DISPLAY
DESCRIPTION:Eagles vs Notorious DIG
END:VALARM
END:VEVENT
BEGIN:VEVENT
UID:ymcacnm-599645@ygametime.com
DTSTAMP:20260523T140000Z
DTSTART;TZID=America/Denver:20260523T080000
DURATION:PT0H60M0S
SUMMARY:Notorious DIG vs Aces
DESCRIPTION:11-13u | Volleyball\nYMCA of Central New Mexico\n
URL;VALUE=URI:https://ygametime.com/branch/ymcacnm/sports/2026-spring-volleyball/25883/?utm_medium=calendar&utm_source=team_cal&utm_content=league_url#game-599645
LOCATION:The Fieldhouse Volleyball Court 2
BEGIN:VALARM
TRIGGER:-P2H
ACTION:DISPLAY
DESCRIPTION:Notorious DIG vs Aces
END:VALARM
END:VEVENT
BEGIN:VEVENT
UID:ymcacnm-599647@ygametime.com
DTSTAMP:20260523T160000Z
DTSTART;TZID=America/Denver:20260523T100000
DURATION:PT0H60M0S
SUMMARY:Notorious DIG vs Ace Squad
DESCRIPTION:11-13u | Volleyball\nYMCA of Central New Mexico\n
URL;VALUE=URI:https://ygametime.com/branch/ymcacnm/sports/2026-spring-volleyball/25883/?utm_medium=calendar&utm_source=team_cal&utm_content=league_url#game-599647
LOCATION:The Fieldhouse Basketball Court 2
BEGIN:VALARM
TRIGGER:-P2H
ACTION:DISPLAY
DESCRIPTION:Notorious DIG vs Ace Squad
END:VALARM
END:VEVENT
END:VCALENDAR

