BEGIN:VCALENDAR
VERSION:2.0
PRODID:-//YGAMETIME.com//YGT iCal Creator//EN
METHOD:PUBLISH
X-PUBLISHED-TTL:PT6H
REFRESH-INTERVAL;VALUE=DURATION:PT6H
CALSCALE:GREGORIAN
X-WR-CALNAME:YGAMETIME CALENDAR
BEGIN:VEVENT
UID:ymcacnm-599620@ygametime.com
DTSTAMP:20260328T160000Z
DTSTART;TZID=America/Denver:20260328T100000
DURATION:PT0H60M0S
SUMMARY:Aces vs Strikers
DESCRIPTION:11-13u | Volleyball\nYMCA of Central New Mexico\n
URL;VALUE=URI:https://ygametime.com/branch/ymcacnm/sports/2026-spring-volleyball/25883/?utm_medium=calendar&utm_source=team_cal&utm_content=league_url#game-599620
LOCATION:The Fieldhouse Volleyball Court 2
BEGIN:VALARM
TRIGGER:-P2H
ACTION:DISPLAY
DESCRIPTION:Aces vs Strikers
END:VALARM
END:VEVENT
BEGIN:VEVENT
UID:ymcacnm-599622@ygametime.com
DTSTAMP:20260328T180000Z
DTSTART;TZID=America/Denver:20260328T120000
DURATION:PT0H60M0S
SUMMARY:Strikers vs Notorious DIG
DESCRIPTION:11-13u | Volleyball\nYMCA of Central New Mexico\n
URL;VALUE=URI:https://ygametime.com/branch/ymcacnm/sports/2026-spring-volleyball/25883/?utm_medium=calendar&utm_source=team_cal&utm_content=league_url#game-599622
LOCATION:The Fieldhouse Volleyball Court 2
BEGIN:VALARM
TRIGGER:-P2H
ACTION:DISPLAY
DESCRIPTION:Strikers vs Notorious DIG
END:VALARM
END:VEVENT
BEGIN:VEVENT
UID:ymcacnm-599636@ygametime.com
DTSTAMP:20260418T180000Z
DTSTART;TZID=America/Denver:20260418T120000
DURATION:PT0H60M0S
SUMMARY:Strikers vs Eagles
DESCRIPTION:11-13u | Volleyball\nYMCA of Central New Mexico\n
URL;VALUE=URI:https://ygametime.com/branch/ymcacnm/sports/2026-spring-volleyball/25883/?utm_medium=calendar&utm_source=team_cal&utm_content=league_url#game-599636
LOCATION:The Fieldhouse Volleyball Court 2
BEGIN:VALARM
TRIGGER:-P2H
ACTION:DISPLAY
DESCRIPTION:Strikers vs Eagles
END:VALARM
END:VEVENT
BEGIN:VEVENT
UID:ymcacnm-599640@ygametime.com
DTSTAMP:20260425T160000Z
DTSTART;TZID=America/Denver:20260425T100000
DURATION:PT0H60M0S
SUMMARY:Elite vs Strikers
DESCRIPTION:11-13u | Volleyball\nYMCA of Central New Mexico\n
URL;VALUE=URI:https://ygametime.com/branch/ymcacnm/sports/2026-spring-volleyball/25883/?utm_medium=calendar&utm_source=team_cal&utm_content=league_url#game-599640
LOCATION:The Fieldhouse Volleyball Court 2
BEGIN:VALARM
TRIGGER:-P2H
ACTION:DISPLAY
DESCRIPTION:Elite vs Strikers
END:VALARM
END:VEVENT
BEGIN:VEVENT
UID:ymcacnm-599651@ygametime.com
DTSTAMP:20260509T140000Z
DTSTART;TZID=America/Denver:20260509T080000
DURATION:PT0H60M0S
SUMMARY:Hits Don't Lie vs Strikers
DESCRIPTION:11-13u | Volleyball\nYMCA of Central New Mexico\n
URL;VALUE=URI:https://ygametime.com/branch/ymcacnm/sports/2026-spring-volleyball/25883/?utm_medium=calendar&utm_source=team_cal&utm_content=league_url#game-599651
LOCATION:The Fieldhouse Volleyball Court 2
BEGIN:VALARM
TRIGGER:-P2H
ACTION:DISPLAY
DESCRIPTION:Hits Don't Lie vs Strikers
END:VALARM
END:VEVENT
BEGIN:VEVENT
UID:ymcacnm-599649@ygametime.com
DTSTAMP:20260509T150000Z
DTSTART;TZID=America/Denver:20260509T090000
DURATION:PT0H60M0S
SUMMARY:Aces vs Strikers
DESCRIPTION:11-13u | Volleyball\nYMCA of Central New Mexico\n
URL;VALUE=URI:https://ygametime.com/branch/ymcacnm/sports/2026-spring-volleyball/25883/?utm_medium=calendar&utm_source=team_cal&utm_content=league_url#game-599649
LOCATION:The Fieldhouse Volleyball Court 2
BEGIN:VALARM
TRIGGER:-P2H
ACTION:DISPLAY
DESCRIPTION:Aces vs Strikers
END:VALARM
END:VEVENT
BEGIN:VEVENT
UID:ymcacnm-599628@ygametime.com
DTSTAMP:20260516T170000Z
DTSTART;TZID=America/Denver:20260516T110000
DURATION:PT0H60M0S
SUMMARY:Strikers vs Ace Squad
DESCRIPTION:11-13u | Volleyball\nYMCA of Central New Mexico\n
URL;VALUE=URI:https://ygametime.com/branch/ymcacnm/sports/2026-spring-volleyball/25883/?utm_medium=calendar&utm_source=team_cal&utm_content=league_url#game-599628
LOCATION:The Fieldhouse Volleyball Court 2
BEGIN:VALARM
TRIGGER:-P2H
ACTION:DISPLAY
DESCRIPTION:Strikers vs Ace Squad
END:VALARM
END:VEVENT
BEGIN:VEVENT
UID:ymcacnm-599643@ygametime.com
DTSTAMP:20260523T160000Z
DTSTART;TZID=America/Denver:20260523T100000
DURATION:PT0H60M0S
SUMMARY:Strikers vs G Dogs
DESCRIPTION:11-13u | Volleyball\nYMCA of Central New Mexico\n
URL;VALUE=URI:https://ygametime.com/branch/ymcacnm/sports/2026-spring-volleyball/25883/?utm_medium=calendar&utm_source=team_cal&utm_content=league_url#game-599643
LOCATION:The Field House Volleyball Court 1
BEGIN:VALARM
TRIGGER:-P2H
ACTION:DISPLAY
DESCRIPTION:Strikers vs G Dogs
END:VALARM
END:VEVENT
END:VCALENDAR

