BEGIN:VCALENDAR
VERSION:2.0
PRODID:-//YGAMETIME.com//YGT iCal Creator//EN
METHOD:PUBLISH
X-PUBLISHED-TTL:PT6H
REFRESH-INTERVAL;VALUE=DURATION:PT6H
CALSCALE:GREGORIAN
X-WR-CALNAME:YGAMETIME CALENDAR
BEGIN:VEVENT
UID:ymcacnm-599669@ygametime.com
DTSTAMP:20260328T180000Z
DTSTART;TZID=America/Denver:20260328T120000
DURATION:PT0H60M0S
SUMMARY:Scared Hitless vs Can You Dig It?
DESCRIPTION:14-17u | Volleyball\nYMCA of Central New Mexico\n
URL;VALUE=URI:https://ygametime.com/branch/ymcacnm/sports/2026-spring-volleyball/25884/?utm_medium=calendar&utm_source=team_cal&utm_content=league_url#game-599669
LOCATION:The Field House Volleyball Court 1
BEGIN:VALARM
TRIGGER:-P2H
ACTION:DISPLAY
DESCRIPTION:Scared Hitless vs Can You Dig It?
END:VALARM
END:VEVENT
BEGIN:VEVENT
UID:ymcacnm-599672@ygametime.com
DTSTAMP:20260404T190000Z
DTSTART;TZID=America/Denver:20260404T130000
DURATION:PT0H60M0S
SUMMARY:Can You Dig It? vs Diamonds
DESCRIPTION:14-17u | Volleyball\nYMCA of Central New Mexico\n
URL;VALUE=URI:https://ygametime.com/branch/ymcacnm/sports/2026-spring-volleyball/25884/?utm_medium=calendar&utm_source=team_cal&utm_content=league_url#game-599672
LOCATION:The Field House Volleyball Court 1
BEGIN:VALARM
TRIGGER:-P2H
ACTION:DISPLAY
DESCRIPTION:Can You Dig It? vs Diamonds
END:VALARM
END:VEVENT
BEGIN:VEVENT
UID:ymcacnm-599676@ygametime.com
DTSTAMP:20260418T190000Z
DTSTART;TZID=America/Denver:20260418T130000
DURATION:PT0H60M0S
SUMMARY:Scared Hitless vs Can You Dig It?
DESCRIPTION:14-17u | Volleyball\nYMCA of Central New Mexico\n
URL;VALUE=URI:https://ygametime.com/branch/ymcacnm/sports/2026-spring-volleyball/25884/?utm_medium=calendar&utm_source=team_cal&utm_content=league_url#game-599676
LOCATION:The Field House Volleyball Court 1
BEGIN:VALARM
TRIGGER:-P2H
ACTION:DISPLAY
DESCRIPTION:Scared Hitless vs Can You Dig It?
END:VALARM
END:VEVENT
BEGIN:VEVENT
UID:ymcacnm-599677@ygametime.com
DTSTAMP:20260425T180000Z
DTSTART;TZID=America/Denver:20260425T120000
DURATION:PT0H60M0S
SUMMARY:Can You Dig It? vs Diamonds
DESCRIPTION:14-17u | Volleyball\nYMCA of Central New Mexico\n
URL;VALUE=URI:https://ygametime.com/branch/ymcacnm/sports/2026-spring-volleyball/25884/?utm_medium=calendar&utm_source=team_cal&utm_content=league_url#game-599677
LOCATION:The Field House Volleyball Court 1
BEGIN:VALARM
TRIGGER:-P2H
ACTION:DISPLAY
DESCRIPTION:Can You Dig It? vs Diamonds
END:VALARM
END:VEVENT
BEGIN:VEVENT
UID:ymcacnm-599681@ygametime.com
DTSTAMP:20260509T180000Z
DTSTART;TZID=America/Denver:20260509T120000
DURATION:PT0H60M0S
SUMMARY:Scared Hitless vs Can You Dig It?
DESCRIPTION:14-17u | Volleyball\nYMCA of Central New Mexico\n
URL;VALUE=URI:https://ygametime.com/branch/ymcacnm/sports/2026-spring-volleyball/25884/?utm_medium=calendar&utm_source=team_cal&utm_content=league_url#game-599681
LOCATION:The Field House Volleyball Court 1
BEGIN:VALARM
TRIGGER:-P2H
ACTION:DISPLAY
DESCRIPTION:Scared Hitless vs Can You Dig It?
END:VALARM
END:VEVENT
BEGIN:VEVENT
UID:ymcacnm-599684@ygametime.com
DTSTAMP:20260516T190000Z
DTSTART;TZID=America/Denver:20260516T130000
DURATION:PT0H60M0S
SUMMARY:Can You Dig It? vs Diamonds
DESCRIPTION:14-17u | Volleyball\nYMCA of Central New Mexico\n
URL;VALUE=URI:https://ygametime.com/branch/ymcacnm/sports/2026-spring-volleyball/25884/?utm_medium=calendar&utm_source=team_cal&utm_content=league_url#game-599684
LOCATION:The Field House Volleyball Court 1
BEGIN:VALARM
TRIGGER:-P2H
ACTION:DISPLAY
DESCRIPTION:Can You Dig It? vs Diamonds
END:VALARM
END:VEVENT
BEGIN:VEVENT
UID:ymcacnm-599704@ygametime.com
DTSTAMP:20260516T200000Z
DTSTART;TZID=America/Denver:20260516T140000
DURATION:PT0H60M0S
SUMMARY:Venom vs Can You Dig It?
DESCRIPTION:14-17u | Volleyball\nYMCA of Central New Mexico\n
URL;VALUE=URI:https://ygametime.com/branch/ymcacnm/sports/2026-spring-volleyball/25884/?utm_medium=calendar&utm_source=team_cal&utm_content=league_url#game-599704
LOCATION:The Field House Volleyball Court 1
BEGIN:VALARM
TRIGGER:-P2H
ACTION:DISPLAY
DESCRIPTION:Venom vs Can You Dig It?
END:VALARM
END:VEVENT
BEGIN:VEVENT
UID:ymcacnm-599673@ygametime.com
DTSTAMP:20260523T140000Z
DTSTART;TZID=America/Denver:20260523T080000
DURATION:PT0H60M0S
SUMMARY:Venom vs Can You Dig It?
DESCRIPTION:14-17u | Volleyball\nYMCA of Central New Mexico\n
URL;VALUE=URI:https://ygametime.com/branch/ymcacnm/sports/2026-spring-volleyball/25884/?utm_medium=calendar&utm_source=team_cal&utm_content=league_url#game-599673
LOCATION:The Field House Volleyball Court 1
BEGIN:VALARM
TRIGGER:-P2H
ACTION:DISPLAY
DESCRIPTION:Venom vs Can You Dig It?
END:VALARM
END:VEVENT
END:VCALENDAR

