BEGIN:VCALENDAR
VERSION:2.0
PRODID:-//YGAMETIME.com//YGT iCal Creator//EN
METHOD:PUBLISH
X-PUBLISHED-TTL:PT6H
REFRESH-INTERVAL;VALUE=DURATION:PT6H
CALSCALE:GREGORIAN
X-WR-CALNAME:YGAMETIME CALENDAR
BEGIN:VEVENT
UID:ymcacnm-599670@ygametime.com
DTSTAMP:20260328T190000Z
DTSTART;TZID=America/Denver:20260328T130000
DURATION:PT0H60M0S
SUMMARY:Diamonds vs Venom
DESCRIPTION:14-17u | Volleyball\nYMCA of Central New Mexico\n
URL;VALUE=URI:https://ygametime.com/branch/ymcacnm/sports/2026-spring-volleyball/25884/?utm_medium=calendar&utm_source=team_cal&utm_content=league_url#game-599670
LOCATION:The Field House Volleyball Court 1
BEGIN:VALARM
TRIGGER:-P2H
ACTION:DISPLAY
DESCRIPTION:Diamonds vs Venom
END:VALARM
END:VEVENT
BEGIN:VEVENT
UID:ymcacnm-599672@ygametime.com
DTSTAMP:20260404T190000Z
DTSTART;TZID=America/Denver:20260404T130000
DURATION:PT0H60M0S
SUMMARY:Can You Dig It? vs Diamonds
DESCRIPTION:14-17u | Volleyball\nYMCA of Central New Mexico\n
URL;VALUE=URI:https://ygametime.com/branch/ymcacnm/sports/2026-spring-volleyball/25884/?utm_medium=calendar&utm_source=team_cal&utm_content=league_url#game-599672
LOCATION:The Field House Volleyball Court 1
BEGIN:VALARM
TRIGGER:-P2H
ACTION:DISPLAY
DESCRIPTION:Can You Dig It? vs Diamonds
END:VALARM
END:VEVENT
BEGIN:VEVENT
UID:ymcacnm-599675@ygametime.com
DTSTAMP:20260418T180000Z
DTSTART;TZID=America/Denver:20260418T120000
DURATION:PT0H60M0S
SUMMARY:Diamonds vs Venom
DESCRIPTION:14-17u | Volleyball\nYMCA of Central New Mexico\n
URL;VALUE=URI:https://ygametime.com/branch/ymcacnm/sports/2026-spring-volleyball/25884/?utm_medium=calendar&utm_source=team_cal&utm_content=league_url#game-599675
LOCATION:The Field House Volleyball Court 1
BEGIN:VALARM
TRIGGER:-P2H
ACTION:DISPLAY
DESCRIPTION:Diamonds vs Venom
END:VALARM
END:VEVENT
BEGIN:VEVENT
UID:ymcacnm-599677@ygametime.com
DTSTAMP:20260425T180000Z
DTSTART;TZID=America/Denver:20260425T120000
DURATION:PT0H60M0S
SUMMARY:Can You Dig It? vs Diamonds
DESCRIPTION:14-17u | Volleyball\nYMCA of Central New Mexico\n
URL;VALUE=URI:https://ygametime.com/branch/ymcacnm/sports/2026-spring-volleyball/25884/?utm_medium=calendar&utm_source=team_cal&utm_content=league_url#game-599677
LOCATION:The Field House Volleyball Court 1
BEGIN:VALARM
TRIGGER:-P2H
ACTION:DISPLAY
DESCRIPTION:Can You Dig It? vs Diamonds
END:VALARM
END:VEVENT
BEGIN:VEVENT
UID:ymcacnm-599682@ygametime.com
DTSTAMP:20260509T190000Z
DTSTART;TZID=America/Denver:20260509T130000
DURATION:PT0H60M0S
SUMMARY:Diamonds vs Venom
DESCRIPTION:14-17u | Volleyball\nYMCA of Central New Mexico\n
URL;VALUE=URI:https://ygametime.com/branch/ymcacnm/sports/2026-spring-volleyball/25884/?utm_medium=calendar&utm_source=team_cal&utm_content=league_url#game-599682
LOCATION:The Field House Volleyball Court 1
BEGIN:VALARM
TRIGGER:-P2H
ACTION:DISPLAY
DESCRIPTION:Diamonds vs Venom
END:VALARM
END:VEVENT
BEGIN:VEVENT
UID:ymcacnm-599703@ygametime.com
DTSTAMP:20260509T200000Z
DTSTART;TZID=America/Denver:20260509T140000
DURATION:PT0H60M0S
SUMMARY:Scared Hitless vs Diamonds
DESCRIPTION:14-17u | Volleyball\nYMCA of Central New Mexico\n
URL;VALUE=URI:https://ygametime.com/branch/ymcacnm/sports/2026-spring-volleyball/25884/?utm_medium=calendar&utm_source=team_cal&utm_content=league_url#game-599703
LOCATION:The Field House Volleyball Court 1
BEGIN:VALARM
TRIGGER:-P2H
ACTION:DISPLAY
DESCRIPTION:Scared Hitless vs Diamonds
END:VALARM
END:VEVENT
BEGIN:VEVENT
UID:ymcacnm-599684@ygametime.com
DTSTAMP:20260516T190000Z
DTSTART;TZID=America/Denver:20260516T130000
DURATION:PT0H60M0S
SUMMARY:Can You Dig It? vs Diamonds
DESCRIPTION:14-17u | Volleyball\nYMCA of Central New Mexico\n
URL;VALUE=URI:https://ygametime.com/branch/ymcacnm/sports/2026-spring-volleyball/25884/?utm_medium=calendar&utm_source=team_cal&utm_content=league_url#game-599684
LOCATION:The Field House Volleyball Court 1
BEGIN:VALARM
TRIGGER:-P2H
ACTION:DISPLAY
DESCRIPTION:Can You Dig It? vs Diamonds
END:VALARM
END:VEVENT
BEGIN:VEVENT
UID:ymcacnm-599674@ygametime.com
DTSTAMP:20260523T150000Z
DTSTART;TZID=America/Denver:20260523T090000
DURATION:PT0H60M0S
SUMMARY:Scared Hitless vs Diamonds
DESCRIPTION:14-17u | Volleyball\nYMCA of Central New Mexico\n
URL;VALUE=URI:https://ygametime.com/branch/ymcacnm/sports/2026-spring-volleyball/25884/?utm_medium=calendar&utm_source=team_cal&utm_content=league_url#game-599674
LOCATION:The Field House Volleyball Court 1
BEGIN:VALARM
TRIGGER:-P2H
ACTION:DISPLAY
DESCRIPTION:Scared Hitless vs Diamonds
END:VALARM
END:VEVENT
END:VCALENDAR

