BEGIN:VCALENDAR
VERSION:2.0
PRODID:-//YGAMETIME.com//YGT iCal Creator//EN
METHOD:PUBLISH
X-PUBLISHED-TTL:PT6H
REFRESH-INTERVAL;VALUE=DURATION:PT6H
CALSCALE:GREGORIAN
X-WR-CALNAME:YGAMETIME CALENDAR
BEGIN:VEVENT
UID:ymcacnm-601241@ygametime.com
DTSTAMP:20260403T233000Z
DTSTART;TZID=America/Denver:20260403T173000
DURATION:PT0H60M0S
SUMMARY:Red Raptors vs Futsal Falcons
DESCRIPTION:5-7u | Futsal\nYMCA of Central New Mexico\n
URL;VALUE=URI:https://ygametime.com/branch/ymcacnm/sports/2026-spring-futsal/25910/?utm_medium=calendar&utm_source=team_cal&utm_content=league_url#game-601241
LOCATION:Horn Family YMCA Futsal Pitch
BEGIN:VALARM
TRIGGER:-P2H
ACTION:DISPLAY
DESCRIPTION:Red Raptors vs Futsal Falcons
END:VALARM
END:VEVENT
BEGIN:VEVENT
UID:ymcacnm-601242@ygametime.com
DTSTAMP:20260410T233000Z
DTSTART;TZID=America/Denver:20260410T173000
DURATION:PT0H60M0S
SUMMARY:Red Raptors vs Futsal Falcons
DESCRIPTION:5-7u | Futsal\nYMCA of Central New Mexico\n
URL;VALUE=URI:https://ygametime.com/branch/ymcacnm/sports/2026-spring-futsal/25910/?utm_medium=calendar&utm_source=team_cal&utm_content=league_url#game-601242
LOCATION:Horn Family YMCA Futsal Pitch
BEGIN:VALARM
TRIGGER:-P2H
ACTION:DISPLAY
DESCRIPTION:Red Raptors vs Futsal Falcons
END:VALARM
END:VEVENT
BEGIN:VEVENT
UID:ymcacnm-601243@ygametime.com
DTSTAMP:20260417T233000Z
DTSTART;TZID=America/Denver:20260417T173000
DURATION:PT0H60M0S
SUMMARY:Red Raptors vs Futsal Falcons
DESCRIPTION:5-7u | Futsal\nYMCA of Central New Mexico\n
URL;VALUE=URI:https://ygametime.com/branch/ymcacnm/sports/2026-spring-futsal/25910/?utm_medium=calendar&utm_source=team_cal&utm_content=league_url#game-601243
LOCATION:Horn Family YMCA Futsal Pitch
BEGIN:VALARM
TRIGGER:-P2H
ACTION:DISPLAY
DESCRIPTION:Red Raptors vs Futsal Falcons
END:VALARM
END:VEVENT
BEGIN:VEVENT
UID:ymcacnm-601244@ygametime.com
DTSTAMP:20260424T233000Z
DTSTART;TZID=America/Denver:20260424T173000
DURATION:PT0H60M0S
SUMMARY:Red Raptors vs Futsal Falcons
DESCRIPTION:5-7u | Futsal\nYMCA of Central New Mexico\n
URL;VALUE=URI:https://ygametime.com/branch/ymcacnm/sports/2026-spring-futsal/25910/?utm_medium=calendar&utm_source=team_cal&utm_content=league_url#game-601244
LOCATION:Horn Family YMCA Futsal Pitch
BEGIN:VALARM
TRIGGER:-P2H
ACTION:DISPLAY
DESCRIPTION:Red Raptors vs Futsal Falcons
END:VALARM
END:VEVENT
BEGIN:VEVENT
UID:ymcacnm-601245@ygametime.com
DTSTAMP:20260501T233000Z
DTSTART;TZID=America/Denver:20260501T173000
DURATION:PT0H60M0S
SUMMARY:Red Raptors vs Futsal Falcons
DESCRIPTION:5-7u | Futsal\nYMCA of Central New Mexico\n
URL;VALUE=URI:https://ygametime.com/branch/ymcacnm/sports/2026-spring-futsal/25910/?utm_medium=calendar&utm_source=team_cal&utm_content=league_url#game-601245
LOCATION:Horn Family YMCA Futsal Pitch
BEGIN:VALARM
TRIGGER:-P2H
ACTION:DISPLAY
DESCRIPTION:Red Raptors vs Futsal Falcons
END:VALARM
END:VEVENT
BEGIN:VEVENT
UID:ymcacnm-601246@ygametime.com
DTSTAMP:20260508T233000Z
DTSTART;TZID=America/Denver:20260508T173000
DURATION:PT0H60M0S
SUMMARY:Red Raptors vs Futsal Falcons
DESCRIPTION:5-7u | Futsal\nYMCA of Central New Mexico\n
URL;VALUE=URI:https://ygametime.com/branch/ymcacnm/sports/2026-spring-futsal/25910/?utm_medium=calendar&utm_source=team_cal&utm_content=league_url#game-601246
LOCATION:Horn Family YMCA Futsal Pitch
BEGIN:VALARM
TRIGGER:-P2H
ACTION:DISPLAY
DESCRIPTION:Red Raptors vs Futsal Falcons
END:VALARM
END:VEVENT
BEGIN:VEVENT
UID:ymcacnm-601247@ygametime.com
DTSTAMP:20260515T233000Z
DTSTART;TZID=America/Denver:20260515T173000
DURATION:PT0H60M0S
SUMMARY:Red Raptors vs Futsal Falcons
DESCRIPTION:5-7u | Futsal\nYMCA of Central New Mexico\n
URL;VALUE=URI:https://ygametime.com/branch/ymcacnm/sports/2026-spring-futsal/25910/?utm_medium=calendar&utm_source=team_cal&utm_content=league_url#game-601247
LOCATION:Horn Family YMCA Futsal Pitch
BEGIN:VALARM
TRIGGER:-P2H
ACTION:DISPLAY
DESCRIPTION:Red Raptors vs Futsal Falcons
END:VALARM
END:VEVENT
BEGIN:VEVENT
UID:ymcacnm-601248@ygametime.com
DTSTAMP:20260522T233000Z
DTSTART;TZID=America/Denver:20260522T173000
DURATION:PT0H60M0S
SUMMARY:Red Raptors vs Futsal Falcons
DESCRIPTION:5-7u | Futsal\nYMCA of Central New Mexico\n
URL;VALUE=URI:https://ygametime.com/branch/ymcacnm/sports/2026-spring-futsal/25910/?utm_medium=calendar&utm_source=team_cal&utm_content=league_url#game-601248
LOCATION:Horn Family YMCA Futsal Pitch
BEGIN:VALARM
TRIGGER:-P2H
ACTION:DISPLAY
DESCRIPTION:Red Raptors vs Futsal Falcons
END:VALARM
END:VEVENT
END:VCALENDAR

