BEGIN:VCALENDAR
VERSION:2.0
PRODID:-//YGAMETIME.com//YGT iCal Creator//EN
METHOD:PUBLISH
X-PUBLISHED-TTL:PT6H
REFRESH-INTERVAL;VALUE=DURATION:PT6H
CALSCALE:GREGORIAN
X-WR-CALNAME:YGAMETIME CALENDAR
BEGIN:VEVENT
UID:ymcacnm-601233@ygametime.com
DTSTAMP:20260404T003000Z
DTSTART;TZID=America/Denver:20260403T183000
DURATION:PT0H60M0S
SUMMARY:Rebel Raiders vs Stealth Strikers
DESCRIPTION:8-10u | Futsal\nYMCA of Central New Mexico\n
URL;VALUE=URI:https://ygametime.com/branch/ymcacnm/sports/2026-spring-futsal/25911/?utm_medium=calendar&utm_source=team_cal&utm_content=league_url#game-601233
LOCATION:Horn Family YMCA Futsal Pitch
BEGIN:VALARM
TRIGGER:-P2H
ACTION:DISPLAY
DESCRIPTION:Rebel Raiders vs Stealth Strikers
END:VALARM
END:VEVENT
BEGIN:VEVENT
UID:ymcacnm-601234@ygametime.com
DTSTAMP:20260411T003000Z
DTSTART;TZID=America/Denver:20260410T183000
DURATION:PT0H60M0S
SUMMARY:Rebel Raiders vs Stealth Strikers
DESCRIPTION:8-10u | Futsal\nYMCA of Central New Mexico\n
URL;VALUE=URI:https://ygametime.com/branch/ymcacnm/sports/2026-spring-futsal/25911/?utm_medium=calendar&utm_source=team_cal&utm_content=league_url#game-601234
LOCATION:Horn Family YMCA Futsal Pitch
BEGIN:VALARM
TRIGGER:-P2H
ACTION:DISPLAY
DESCRIPTION:Rebel Raiders vs Stealth Strikers
END:VALARM
END:VEVENT
BEGIN:VEVENT
UID:ymcacnm-601235@ygametime.com
DTSTAMP:20260418T003000Z
DTSTART;TZID=America/Denver:20260417T183000
DURATION:PT0H60M0S
SUMMARY:Rebel Raiders vs Stealth Strikers
DESCRIPTION:8-10u | Futsal\nYMCA of Central New Mexico\n
URL;VALUE=URI:https://ygametime.com/branch/ymcacnm/sports/2026-spring-futsal/25911/?utm_medium=calendar&utm_source=team_cal&utm_content=league_url#game-601235
LOCATION:Horn Family YMCA Futsal Pitch
BEGIN:VALARM
TRIGGER:-P2H
ACTION:DISPLAY
DESCRIPTION:Rebel Raiders vs Stealth Strikers
END:VALARM
END:VEVENT
BEGIN:VEVENT
UID:ymcacnm-601236@ygametime.com
DTSTAMP:20260425T003000Z
DTSTART;TZID=America/Denver:20260424T183000
DURATION:PT0H60M0S
SUMMARY:Rebel Raiders vs Stealth Strikers
DESCRIPTION:8-10u | Futsal\nYMCA of Central New Mexico\n
URL;VALUE=URI:https://ygametime.com/branch/ymcacnm/sports/2026-spring-futsal/25911/?utm_medium=calendar&utm_source=team_cal&utm_content=league_url#game-601236
LOCATION:Horn Family YMCA Futsal Pitch
BEGIN:VALARM
TRIGGER:-P2H
ACTION:DISPLAY
DESCRIPTION:Rebel Raiders vs Stealth Strikers
END:VALARM
END:VEVENT
BEGIN:VEVENT
UID:ymcacnm-601237@ygametime.com
DTSTAMP:20260502T003000Z
DTSTART;TZID=America/Denver:20260501T183000
DURATION:PT0H60M0S
SUMMARY:Rebel Raiders vs Stealth Strikers
DESCRIPTION:8-10u | Futsal\nYMCA of Central New Mexico\n
URL;VALUE=URI:https://ygametime.com/branch/ymcacnm/sports/2026-spring-futsal/25911/?utm_medium=calendar&utm_source=team_cal&utm_content=league_url#game-601237
LOCATION:Horn Family YMCA Futsal Pitch
BEGIN:VALARM
TRIGGER:-P2H
ACTION:DISPLAY
DESCRIPTION:Rebel Raiders vs Stealth Strikers
END:VALARM
END:VEVENT
BEGIN:VEVENT
UID:ymcacnm-601238@ygametime.com
DTSTAMP:20260509T003000Z
DTSTART;TZID=America/Denver:20260508T183000
DURATION:PT0H60M0S
SUMMARY:Rebel Raiders vs Stealth Strikers
DESCRIPTION:8-10u | Futsal\nYMCA of Central New Mexico\n
URL;VALUE=URI:https://ygametime.com/branch/ymcacnm/sports/2026-spring-futsal/25911/?utm_medium=calendar&utm_source=team_cal&utm_content=league_url#game-601238
LOCATION:Horn Family YMCA Futsal Pitch
BEGIN:VALARM
TRIGGER:-P2H
ACTION:DISPLAY
DESCRIPTION:Rebel Raiders vs Stealth Strikers
END:VALARM
END:VEVENT
BEGIN:VEVENT
UID:ymcacnm-601239@ygametime.com
DTSTAMP:20260516T003000Z
DTSTART;TZID=America/Denver:20260515T183000
DURATION:PT0H60M0S
SUMMARY:Rebel Raiders vs Stealth Strikers
DESCRIPTION:8-10u | Futsal\nYMCA of Central New Mexico\n
URL;VALUE=URI:https://ygametime.com/branch/ymcacnm/sports/2026-spring-futsal/25911/?utm_medium=calendar&utm_source=team_cal&utm_content=league_url#game-601239
LOCATION:Horn Family YMCA Futsal Pitch
BEGIN:VALARM
TRIGGER:-P2H
ACTION:DISPLAY
DESCRIPTION:Rebel Raiders vs Stealth Strikers
END:VALARM
END:VEVENT
BEGIN:VEVENT
UID:ymcacnm-601240@ygametime.com
DTSTAMP:20260523T003000Z
DTSTART;TZID=America/Denver:20260522T183000
DURATION:PT0H60M0S
SUMMARY:Rebel Raiders vs Stealth Strikers
DESCRIPTION:8-10u | Futsal\nYMCA of Central New Mexico\n
URL;VALUE=URI:https://ygametime.com/branch/ymcacnm/sports/2026-spring-futsal/25911/?utm_medium=calendar&utm_source=team_cal&utm_content=league_url#game-601240
LOCATION:Horn Family YMCA Futsal Pitch
BEGIN:VALARM
TRIGGER:-P2H
ACTION:DISPLAY
DESCRIPTION:Rebel Raiders vs Stealth Strikers
END:VALARM
END:VEVENT
END:VCALENDAR

